BEGIN:VCALENDAR
VERSION:2.0
PRODID:-//178.128.213.85//NONSGML kigkonsult.se iCalcreator 2.26.9//
CALSCALE:GREGORIAN
METHOD:PUBLISH
X-WR-CALNAME:ASDWA | Australian Sheep Dog Workers&#039\; Association
X-WR-CALDESC:
X-FROM-URL:https://asdwa.org.au
X-WR-TIMEZONE:Australia/Sydney
BEGIN:VTIMEZONE
TZID:Australia/Sydney
X-LIC-LOCATION:Australia/Sydney
BEGIN:STANDARD
DTSTART:20210404T030000
TZOFFSETFROM:+1100
TZOFFSETTO:+1000
RDATE:20220403T030000
TZNAME:EST
END:STANDARD
BEGIN:DAYLIGHT
DTSTART:20201004T020000
TZOFFSETFROM:+1000
TZOFFSETTO:+1100
RDATE:20211003T020000
TZNAME:EST
END:DAYLIGHT
END:VTIMEZONE
BEGIN:VEVENT
UID:ai1ec-2307@qwsdai.org.au
DTSTAMP:20210227T070423Z
CATEGORIES;LANGUAGE=en-US:QLD
CONTACT:John Hoey\; 0409 492 768
DESCRIPTION:Entry Form\nTrial Info
DTSTART;VALUE=DATE:20210313
DTEND;VALUE=DATE:20210314
LOCATION:Inglewood Showground @ Denison Street\, Inglewood QLD\, Australia
SEQUENCE:0
SUMMARY:Inglewood Show Dogpro Yard Dog Trial 13th March\, 2021
URL:https://asdwa.org.au/event/inglewood-show-yard-dog-trial-13th-march-202
 1/
X-COST-TYPE:free
X-ALT-DESC;FMTTYPE=text/html:<!DOCTYPE HTML PUBLIC '-//W3C//DTD HTML 3.2//E
 N'>\\n<HTML>\\n<HEAD>\\n<TITLE></TITLE>\\n</HEAD>\\n<BODY><p><a href='http
 s://qwsdai.org.au/wp-content/uploads/2021/02/Yard-Dog-Trial-Entry-Form.pdf
 '><em><strong>Entry Form</strong></em></a></p>\n<p><a href='https://qwsdai
 .org.au/wp-content/uploads/2021/02/Yard-Dog-Trial.pdf'><em><strong>Trial I
 nfo</strong></em></a></p>\n</BODY></HTML>
END:VEVENT
END:VCALENDAR
