BEGIN:VCALENDAR
VERSION:2.0
PRODID:-//178.128.213.85//NONSGML kigkonsult.se iCalcreator 2.26.9//
CALSCALE:GREGORIAN
METHOD:PUBLISH
X-WR-CALNAME:ASDWA | Australian Sheep Dog Workers&#039\; Association
X-WR-CALDESC:
X-FROM-URL:https://asdwa.org.au
X-WR-TIMEZONE:Australia/Sydney
BEGIN:VTIMEZONE
TZID:Australia/Sydney
X-LIC-LOCATION:Australia/Sydney
BEGIN:STANDARD
DTSTART:20210404T030000
TZOFFSETFROM:+1100
TZOFFSETTO:+1000
RDATE:20220403T030000
TZNAME:EST
END:STANDARD
BEGIN:DAYLIGHT
DTSTART:20201004T020000
TZOFFSETFROM:+1000
TZOFFSETTO:+1100
RDATE:20211003T020000
TZNAME:EST
END:DAYLIGHT
END:VTIMEZONE
BEGIN:VEVENT
UID:ai1ec-2266@qwsdai.org.au
DTSTAMP:20210227T071308Z
CATEGORIES;LANGUAGE=en-US:QLD
CONTACT:Joy Williams\; 0418 759 056\; joysdogs7@gmail.com
DESCRIPTION:<p>Entry Form & Information</p>
DTSTART;VALUE=DATE:20210510
DTEND;VALUE=DATE:20210513
LOCATION:Morven Grounds @ Morven QLD 4468\, Australia
SEQUENCE:0
SUMMARY:Morven Dogpro Sheep Dog Trial 10\, 11\, 12\, May\, 2021
URL:https://asdwa.org.au/event/morven-sheep-dog-trial-10-11-12-may-2021/
X-COST-TYPE:free
END:VEVENT
END:VCALENDAR
