BEGIN:VCALENDAR
VERSION:2.0
PRODID:-//178.128.213.85//NONSGML kigkonsult.se iCalcreator 2.26.9//
CALSCALE:GREGORIAN
METHOD:PUBLISH
X-WR-CALNAME:ASDWA | Australian Sheep Dog Workers&#039\; Association
X-WR-CALDESC:
X-FROM-URL:https://asdwa.org.au
X-WR-TIMEZONE:Australia/Sydney
BEGIN:VTIMEZONE
TZID:Australia/Sydney
X-LIC-LOCATION:Australia/Sydney
BEGIN:STANDARD
DTSTART:20210404T030000
TZOFFSETFROM:+1100
TZOFFSETTO:+1000
RDATE:20220403T030000
TZNAME:EST
END:STANDARD
BEGIN:DAYLIGHT
DTSTART:20201004T020000
TZOFFSETFROM:+1000
TZOFFSETTO:+1100
RDATE:20211003T020000
TZNAME:EST
END:DAYLIGHT
END:VTIMEZONE
BEGIN:VEVENT
UID:ai1ec-2267@qwsdai.org.au
DTSTAMP:20210227T071356Z
CATEGORIES;LANGUAGE=en-US:QLD
CONTACT:Belinda Percival\; 0427 074 080
DESCRIPTION:Entry Form\n 
DTSTART;VALUE=DATE:20210513
DTEND;VALUE=DATE:20210516
GEO:-26.396596;+146.269183
LOCATION:Charleville Showgrounds @ Partridge St\, Charleville QLD 4470\, Au
 stralia
SEQUENCE:0
SUMMARY:Charleville Show Sheep Dog Trial\, 13\, 14\, 15\, May\, 2021
URL:https://asdwa.org.au/event/charleville-show-sheep-dog-trial-13-14-15-ma
 y-2021/
X-COST-TYPE:free
X-ALT-DESC;FMTTYPE=text/html:<!DOCTYPE HTML PUBLIC '-//W3C//DTD HTML 3.2//E
 N'>\\n<HTML>\\n<HEAD>\\n<TITLE></TITLE>\\n</HEAD>\\n<BODY><p>Entry Form</p
 >\n<p><span class='mb_text'> </span></p>\n</BODY></HTML>
END:VEVENT
END:VCALENDAR
