BEGIN:VCALENDAR
VERSION:2.0
PRODID:-//178.128.213.85//NONSGML kigkonsult.se iCalcreator 2.26.9//
CALSCALE:GREGORIAN
METHOD:PUBLISH
X-WR-CALNAME:ASDWA | Australian Sheep Dog Workers&#039\; Association
X-WR-CALDESC:
X-FROM-URL:https://asdwa.org.au
X-WR-TIMEZONE:Australia/Sydney
BEGIN:VTIMEZONE
TZID:Australia/Sydney
X-LIC-LOCATION:Australia/Sydney
BEGIN:STANDARD
DTSTART:20210404T030000
TZOFFSETFROM:+1100
TZOFFSETTO:+1000
RDATE:20220403T030000
TZNAME:EST
END:STANDARD
BEGIN:DAYLIGHT
DTSTART:20201004T020000
TZOFFSETFROM:+1000
TZOFFSETTO:+1100
RDATE:20211003T020000
TZNAME:EST
END:DAYLIGHT
END:VTIMEZONE
BEGIN:VEVENT
UID:ai1ec-2265@qwsdai.org.au
DTSTAMP:20210227T071243Z
CATEGORIES;LANGUAGE=en-US:QLD
CONTACT:0417 099 542\, 0413 465 791
DESCRIPTION:Entry Form
DTSTART;VALUE=DATE:20210506
DTEND;VALUE=DATE:20210509
LOCATION:Roma Showgrounds @ Bassett Park Carnarvan Hway Roma QLD 4455\, Aus
 tralia
SEQUENCE:0
SUMMARY:Roma Show Dogpro Sheep Dog Trial\, 6\, 7\, 8\, May\, 2021
URL:https://asdwa.org.au/event/roma-show-sheep-dog-trial-6-7-8-may-2021/
X-COST-TYPE:free
X-ALT-DESC;FMTTYPE=text/html:<!DOCTYPE HTML PUBLIC '-//W3C//DTD HTML 3.2//E
 N'>\\n<HTML>\\n<HEAD>\\n<TITLE></TITLE>\\n</HEAD>\\n<BODY><p>Entry Form</p
 >\n</BODY></HTML>
END:VEVENT
END:VCALENDAR
