BEGIN:VCALENDAR
VERSION:2.0
PRODID:-//178.128.213.85//NONSGML kigkonsult.se iCalcreator 2.26.9//
CALSCALE:GREGORIAN
METHOD:PUBLISH
X-WR-CALNAME:ASDWA | Australian Sheep Dog Workers&#039\; Association
X-WR-CALDESC:
X-FROM-URL:https://asdwa.org.au
X-WR-TIMEZONE:Australia/Sydney
BEGIN:VTIMEZONE
TZID:Australia/Sydney
X-LIC-LOCATION:Australia/Sydney
BEGIN:STANDARD
DTSTART:20210404T030000
TZOFFSETFROM:+1100
TZOFFSETTO:+1000
RDATE:20220403T030000
TZNAME:EST
END:STANDARD
BEGIN:DAYLIGHT
DTSTART:20201004T020000
TZOFFSETFROM:+1000
TZOFFSETTO:+1100
RDATE:20211003T020000
TZNAME:EST
END:DAYLIGHT
END:VTIMEZONE
BEGIN:VEVENT
UID:ai1ec-2259@qwsdai.org.au
DTSTAMP:20210227T070853Z
CATEGORIES;LANGUAGE=en-US:QLD
CONTACT:Taryn Binstead\; 0409 800 159
DESCRIPTION:Link Show Day on-line page\n\nLink to ON-LINE SCHEDULE PAGE
DTSTART;VALUE=DATE:20210416
DTEND;VALUE=DATE:20210417
LOCATION:Toowoomba Showgrounds @ Frank Thomas Avenue\, Western end of\, Gle
 nvale Rd\, Glenvale QLD 4350\, Australia
SEQUENCE:0
SUMMARY:Toowoomba Show Dogpro Utility Trial\, 16 April\, 2021
URL:https://asdwa.org.au/event/toowoomba-show-utility-trial-15-april-2021/
X-COST-TYPE:free
X-ALT-DESC;FMTTYPE=text/html:<!DOCTYPE HTML PUBLIC '-//W3C//DTD HTML 3.2//E
 N'>\\n<HTML>\\n<HEAD>\\n<TITLE></TITLE>\\n</HEAD>\\n<BODY><p><a href='http
 s://showday.online/'>Link Show Day on-line page</a><strong><br />\n</stron
 g></p>\n<p><a href='https://www-011.clevvi.com.au/fileadmin/html_templates
 /rasq/images/2021_Utility_Dog_and_Sheep_Dog_Trials_Schedule.pdf'>Link to O
 N-LINE SCHEDULE PAGE</a></p>\n</BODY></HTML>
END:VEVENT
END:VCALENDAR
