BEGIN:VCALENDAR
VERSION:2.0
PRODID:-//178.128.213.85//NONSGML kigkonsult.se iCalcreator 2.26.9//
CALSCALE:GREGORIAN
METHOD:PUBLISH
X-WR-CALNAME:ASDWA | Australian Sheep Dog Workers&#039\; Association
X-WR-CALDESC:
X-FROM-URL:https://asdwa.org.au
X-WR-TIMEZONE:Australia/Sydney
BEGIN:VTIMEZONE
TZID:Australia/Sydney
X-LIC-LOCATION:Australia/Sydney
BEGIN:STANDARD
DTSTART:20210404T030000
TZOFFSETFROM:+1100
TZOFFSETTO:+1000
RDATE:20220403T030000
TZNAME:EST
END:STANDARD
BEGIN:DAYLIGHT
DTSTART:20201004T020000
TZOFFSETFROM:+1000
TZOFFSETTO:+1100
RDATE:20211003T020000
TZNAME:EST
END:DAYLIGHT
END:VTIMEZONE
BEGIN:VEVENT
UID:ai1ec-2260@qwsdai.org.au
DTSTAMP:20210227T070925Z
CATEGORIES;LANGUAGE=en-US:QLD
CONTACT:Julie and Gary Spry\; 0402 436 477
DESCRIPTION:Link Show Day on-line page\n\nLink to ON-LINE SCHEDULE PAGE\nse
 condary entry form(word)\nsecondary entry form(PDF)\nSecondary Entry Form 
 to be completed with your online entries for Toowoomba and returned Julie 
 so the draw can be completed.\nFORM TO BE SENT TO \njulieandgaryspry@bigpo
 nd.com\nor\nJulie Spry\, 120 Wyreema Road\, Drayton. QLD.  4350\nPH: 04024
 36477\n***************\n\nRoyal Agricultural Society of Queensland\nP O Bo
 x 18099 Clifford Gardens\nTOOWOOMBA  4350\nPh: 07 4634 7400 Fax: 07 4633 2
 495 www.rasq.com.au\n 
DTSTART;VALUE=DATE:20210417
DTEND;VALUE=DATE:20210419
LOCATION:Toowoomba Showgrounds @ Frank Thomas Ave\, Glenvale QLD 4350\, Aus
 tralia
SEQUENCE:0
SUMMARY:Toowoomba Show Sheep Dog Trial\, 17\, 18\, April\, 2021
URL:https://asdwa.org.au/event/toowoomba-show-sheep-dog-trial-16-17-april-2
 021/
X-COST-TYPE:free
X-ALT-DESC;FMTTYPE=text/html:<!DOCTYPE HTML PUBLIC '-//W3C//DTD HTML 3.2//E
 N'>\\n<HTML>\\n<HEAD>\\n<TITLE></TITLE>\\n</HEAD>\\n<BODY><p><a href='http
 s://showday.online/'>Link Show Day on-line page</a><strong><br />\n</stron
 g></p>\n<p><a href='https://www-011.clevvi.com.au/fileadmin/html_templates
 /rasq/images/2021_Utility_Dog_and_Sheep_Dog_Trials_Schedule.pdf'>Link to O
 N-LINE SCHEDULE PAGE</a></p>\n<p><a href='https://qwsdai.org.au/wp-content
 /uploads/2021/02/TOOWOOMBA-TRIAL-Secondary-Entry-2021.docx'>secondary entr
 y form(word)</a></p>\n<p><a href='https://qwsdai.org.au/wp-content/uploads
 /2021/02/TOOWOOMBA-TRIAL-Secondary-Entry-2021.pdf'>secondary entry form(PD
 F)</a></p>\n<h4>Secondary Entry Form to be completed with your online entr
 ies for Toowoomba and returned Julie so the draw can be completed.</h4>\n<
 p><strong>FORM TO BE SENT TO </strong></p>\n<p><a href='mailto:julieandgar
 yspry@bigpond.com'>julieandgaryspry@bigpond.com</a></p>\n<p><strong>or</st
 rong></p>\n<p><strong>Julie Spry\, </strong><strong>120 Wyreema Road\, </s
 trong><strong>Drayton. QLD.  4350</strong></p>\n<p><strong>PH: 0402436477<
 /strong></p>\n<p><strong>***************<br />\n</strong></p>\n<p>Royal Ag
 ricultural Society of Queensland</p>\n<p>P O Box 18099 Clifford Gardens</p
 >\n<p>TOOWOOMBA  4350</p>\n<p>Ph: 07 4634 7400 Fax: 07 4633 2495 <a href='
 http://www.rasq.com.au/'>www.rasq.com.au</a></p>\n<p> </p>\n</BODY></HTML>
END:VEVENT
END:VCALENDAR
