BEGIN:VCALENDAR
VERSION:2.0
PRODID:-//178.128.213.85//NONSGML kigkonsult.se iCalcreator 2.26.9//
CALSCALE:GREGORIAN
METHOD:PUBLISH
X-WR-CALNAME:ASDWA | Australian Sheep Dog Workers&#039\; Association
X-WR-CALDESC:
X-FROM-URL:https://asdwa.org.au
X-WR-TIMEZONE:Australia/Sydney
BEGIN:VTIMEZONE
TZID:Australia/Sydney
X-LIC-LOCATION:Australia/Sydney
BEGIN:STANDARD
DTSTART:20210404T030000
TZOFFSETFROM:+1100
TZOFFSETTO:+1000
RDATE:20220403T030000
TZNAME:EST
END:STANDARD
BEGIN:DAYLIGHT
DTSTART:20201004T020000
TZOFFSETFROM:+1000
TZOFFSETTO:+1100
RDATE:20211003T020000
TZNAME:EST
END:DAYLIGHT
END:VTIMEZONE
BEGIN:VEVENT
UID:ai1ec-2261@qwsdai.org.au
DTSTAMP:20210227T070949Z
CATEGORIES;LANGUAGE=en-US:QLD
CONTACT:Linda Mitchell\; 0438038424
DESCRIPTION:<p>ENTRY FORM & INFO</p>
DTSTART;VALUE=DATE:20210423
DTEND;VALUE=DATE:20210426
LOCATION:Dalby Showgrounds @ 59 Nicholson St\, Dalby QLD 4405\, Australia
SEQUENCE:0
SUMMARY:Dalby Show Sheep Dog Trial\, 23\, 24\, 25\, April\, 2021
URL:https://asdwa.org.au/event/dogpro-dalby-show-sheep-dog-trial-23-24-25-a
 pril-2021/
X-COST-TYPE:free
END:VEVENT
END:VCALENDAR
