BEGIN:VCALENDAR
VERSION:2.0
PRODID:-//178.128.213.85//NONSGML kigkonsult.se iCalcreator 2.26.9//
CALSCALE:GREGORIAN
METHOD:PUBLISH
X-WR-CALNAME:ASDWA | Australian Sheep Dog Workers&#039\; Association
X-WR-CALDESC:
X-FROM-URL:https://asdwa.org.au
X-WR-TIMEZONE:Australia/Sydney
BEGIN:VTIMEZONE
TZID:Australia/Sydney
X-LIC-LOCATION:Australia/Sydney
BEGIN:STANDARD
DTSTART:20210404T030000
TZOFFSETFROM:+1100
TZOFFSETTO:+1000
RDATE:20220403T030000
TZNAME:EST
END:STANDARD
BEGIN:DAYLIGHT
DTSTART:20201004T020000
TZOFFSETFROM:+1000
TZOFFSETTO:+1100
RDATE:20211003T020000
TZNAME:EST
END:DAYLIGHT
END:VTIMEZONE
BEGIN:VEVENT
UID:ai1ec-2256@qwsdai.org.au
DTSTAMP:20210227T070530Z
CATEGORIES;LANGUAGE=en-US:QLD
CONTACT:07 46614336\,
DESCRIPTION:Entry will be taken on the day.\nINFORMATION\nRULES
DTSTART;VALUE=DATE:20210319
DTEND;VALUE=DATE:20210321
LOCATION:Warwick Showgrounds @ 18 Kingsford St\, Warwick QLD 4370\, Austral
 ia
SEQUENCE:0
SUMMARY:Warwick Show Dogpro Sheep Dog Short Course\, 19\, 20\, March\, 2021
URL:https://asdwa.org.au/event/warwick-show-sheep-dog-short-course-19-20-ma
 rch-2021/
X-COST-TYPE:free
X-ALT-DESC;FMTTYPE=text/html:<!DOCTYPE HTML PUBLIC '-//W3C//DTD HTML 3.2//E
 N'>\\n<HTML>\\n<HEAD>\\n<TITLE></TITLE>\\n</HEAD>\\n<BODY><p>Entry will be
  taken on the day.</p>\n<p><strong><a href='https://qwsdai.org.au/wp-conte
 nt/uploads/2019/02/shortcourse.pdf'>INFORMATION</a></strong></p>\n<p><a hr
 ef='https://qwsdai.org.au/wp-content/uploads/2019/02/SHORT-COURSE-RULES-20
 14.pdf'><strong>RULES</strong></a></p>\n</BODY></HTML>
END:VEVENT
END:VCALENDAR
