BEGIN:VCALENDAR
VERSION:2.0
PRODID:-//178.128.213.85//NONSGML kigkonsult.se iCalcreator 2.26.9//
CALSCALE:GREGORIAN
METHOD:PUBLISH
X-WR-CALNAME:ASDWA | Australian Sheep Dog Workers&#039\; Association
X-WR-CALDESC:
X-FROM-URL:https://asdwa.org.au
X-WR-TIMEZONE:Australia/Sydney
BEGIN:VTIMEZONE
TZID:Australia/Sydney
X-LIC-LOCATION:Australia/Sydney
BEGIN:STANDARD
DTSTART:20210404T030000
TZOFFSETFROM:+1100
TZOFFSETTO:+1000
RDATE:20220403T030000
TZNAME:EST
END:STANDARD
BEGIN:DAYLIGHT
DTSTART:20201004T020000
TZOFFSETFROM:+1000
TZOFFSETTO:+1100
RDATE:20211003T020000
TZNAME:EST
END:DAYLIGHT
END:VTIMEZONE
BEGIN:VEVENT
UID:ai1ec-1531@vwsda.org
DTSTAMP:20210227T070318Z
CATEGORIES;LANGUAGE=en-US:VIC
CONTACT:Helen Spencer\; 0427 395 619\; helenspencer4@bigpond.com
DESCRIPTION:Moyston Sheepdog entry form 2021
DTSTART;VALUE=DATE:20210311
DTEND;VALUE=DATE:20210314
LOCATION:Moyston Recreation Reserve @ Moyston Great Western Road\, Moyston
SEQUENCE:0
SUMMARY:DOG PRO MOYSTON DOG TRIALS
URL:https://asdwa.org.au/event/dogpro-plus-moyston-dog-trials/
X-COST-TYPE:free
X-ALT-DESC;FMTTYPE=text/html:<!DOCTYPE HTML PUBLIC '-//W3C//DTD HTML 3.2//E
 N'>\\n<HTML>\\n<HEAD>\\n<TITLE></TITLE>\\n</HEAD>\\n<BODY><p><a href='http
 s://vwsda.org/wp-content/uploads/2020/11/Moyston-Sheepdog-entry-form-2021.
 docx'>Moyston Sheepdog entry form 2021</a></p>\n</BODY></HTML>
END:VEVENT
END:VCALENDAR
