BEGIN:VCALENDAR
VERSION:2.0
PRODID:-//178.128.213.85//NONSGML kigkonsult.se iCalcreator 2.26.9//
CALSCALE:GREGORIAN
METHOD:PUBLISH
X-WR-CALNAME:ASDWA | Australian Sheep Dog Workers&#039\; Association
X-WR-CALDESC:
X-FROM-URL:https://asdwa.org.au
X-WR-TIMEZONE:Australia/Sydney
BEGIN:VTIMEZONE
TZID:Australia/Sydney
X-LIC-LOCATION:Australia/Sydney
BEGIN:STANDARD
DTSTART:20210404T030000
TZOFFSETFROM:+1100
TZOFFSETTO:+1000
RDATE:20220403T030000
TZNAME:EST
END:STANDARD
BEGIN:DAYLIGHT
DTSTART:20201004T020000
TZOFFSETFROM:+1000
TZOFFSETTO:+1100
RDATE:20211003T020000
TZNAME:EST
END:DAYLIGHT
END:VTIMEZONE
BEGIN:VEVENT
UID:ai1ec-1521@vwsda.org
DTSTAMP:20210227T070213Z
CATEGORIES;LANGUAGE=en-US:VIC
CONTACT:Nicole Davidson\; 03 5582 0272\; davoeng1@bigpond.com
DESCRIPTION:Wando Vale 2021 Entry Form and letter
DTSTART;VALUE=DATE:20210307
DTEND;VALUE=DATE:20210309
SEQUENCE:0
SUMMARY:DOG PRO Wando Vale Dog Trials
URL:https://asdwa.org.au/event/dogpro-wando-vale-dog-trials/
X-COST-TYPE:free
X-ALT-DESC;FMTTYPE=text/html:<!DOCTYPE HTML PUBLIC '-//W3C//DTD HTML 3.2//E
 N'>\\n<HTML>\\n<HEAD>\\n<TITLE></TITLE>\\n</HEAD>\\n<BODY><p><a href='http
 s://vwsda.org/wp-content/uploads/2020/10/Wando-Vale-2021-Entry-Form-and-le
 tter.pdf'>Wando Vale 2021 Entry Form and letter</a></p>\n</BODY></HTML>
END:VEVENT
END:VCALENDAR
