BEGIN:VCALENDAR
VERSION:2.0
PRODID:-//178.128.213.85//NONSGML kigkonsult.se iCalcreator 2.26.9//
CALSCALE:GREGORIAN
METHOD:PUBLISH
X-WR-CALNAME:ASDWA | Australian Sheep Dog Workers&#039\; Association
X-WR-CALDESC:
X-FROM-URL:https://asdwa.org.au
X-WR-TIMEZONE:Australia/Sydney
BEGIN:VTIMEZONE
TZID:Australia/Sydney
X-LIC-LOCATION:Australia/Sydney
BEGIN:STANDARD
DTSTART:20210404T030000
TZOFFSETFROM:+1100
TZOFFSETTO:+1000
RDATE:20220403T030000
TZNAME:EST
END:STANDARD
BEGIN:DAYLIGHT
DTSTART:20201004T020000
TZOFFSETFROM:+1000
TZOFFSETTO:+1100
RDATE:20211003T020000
TZNAME:EST
END:DAYLIGHT
END:VTIMEZONE
BEGIN:VEVENT
UID:ai1ec-1341@vwsda.org
DTSTAMP:20210227T070711Z
CATEGORIES;LANGUAGE=en-US:VIC
CONTACT:Jean Moir\; 03 5668 8263\; jeanmoir@dcsi.net.au
DESCRIPTION:<p>No catering.   BYO Lunch   Tea and Coffee supplied.  Locatio
 n of Yards is approx 1k on the left down Dyall’s Lane.</p>\n<p> </p>\n<p>A
 nyone interested in attending to phone Jean Moir 03 5668 8263</p>
DTSTART;VALUE=DATE:20210402
DTEND;VALUE=DATE:20210405
LOCATION:'Tarwin Vale' @ Dyalls Lane\, Mirboo North.
SEQUENCE:0
SUMMARY:TRANS TASMAN TRAINING WEEKEND
URL:https://asdwa.org.au/event/south-gippsland-trans-tasman-training-weeken
 d/
X-COST-TYPE:free
END:VEVENT
END:VCALENDAR
