BEGIN:VCALENDAR
VERSION:2.0
PRODID:-//178.128.213.85//NONSGML kigkonsult.se iCalcreator 2.26.9//
CALSCALE:GREGORIAN
METHOD:PUBLISH
X-WR-CALNAME:ASDWA | Australian Sheep Dog Workers&#039\; Association
X-WR-CALDESC:
X-FROM-URL:https://asdwa.org.au
X-WR-TIMEZONE:Australia/Sydney
BEGIN:VTIMEZONE
TZID:Australia/Sydney
X-LIC-LOCATION:Australia/Sydney
BEGIN:STANDARD
DTSTART:20210404T030000
TZOFFSETFROM:+1100
TZOFFSETTO:+1000
RDATE:20220403T030000
TZNAME:EST
END:STANDARD
BEGIN:DAYLIGHT
DTSTART:20201004T020000
TZOFFSETFROM:+1000
TZOFFSETTO:+1100
RDATE:20211003T020000
TZNAME:EST
END:DAYLIGHT
END:VTIMEZONE
BEGIN:VEVENT
UID:ai1ec-1342@vwsda.org
DTSTAMP:20210227T070822Z
CATEGORIES;LANGUAGE=en-US:VIC
CONTACT:Steve Turner\; 0409 388 160\; stevet@kempe.com.au
DESCRIPTION:
DTSTART;VALUE=DATE:20210416
DTEND;VALUE=DATE:20210419
LOCATION:Cressy Recreation Reserve @ Tennant Street\, Cressy Vic
SEQUENCE:0
SUMMARY:DOGPRO PLUS VICTORIAN FIELD CHAMPIONSHIP (Baden Powell)
URL:https://asdwa.org.au/event/dogpro-plus-victorian-field-championship-bad
 en-powell-2/
X-COST-TYPE:free
END:VEVENT
END:VCALENDAR
